BEGIN:VCALENDAR
PRODID:-//eluceo/ical//2.0/EN
VERSION:2.0
CALSCALE:GREGORIAN
BEGIN:VEVENT
UID:bb8e34d7e7b9c683a0ba4363f0932a62
DTSTAMP:20260422T081336Z
SUMMARY:Cemetery Service - Beit Haverim
DESCRIPTION:Jewish Federation of Greater Portland\nCommunity Calendar\nhttp
 s://jewishportland.org/community-calendar/high-holy-day-services---beit-ha
 verim-1692901857\n\nCemetery Service - Oswego Pioneer Cemetery\, 17401 Sta
 fford Road\, Lake Oswego
DTSTART;TZID=America/Los_Angeles:20230917T100000
DTEND;TZID=America/Los_Angeles:20230917T110000
END:VEVENT
END:VCALENDAR
