BEGIN:VCALENDAR
PRODID:-//eluceo/ical//2.0/EN
VERSION:2.0
CALSCALE:GREGORIAN
BEGIN:VEVENT
UID:30b346094fafeb282b514803c5e3accc
DTSTAMP:20260422T203122Z
SUMMARY:Tashlich - Beit Haverim
DESCRIPTION:Jewish Federation of Greater Portland\nCommunity Calendar\nhttp
 s://jewishportland.org/community-calendar/high-holy-day-services---beit-ha
 verim-1692901692\n\nTashlich - 30 minutes after the Morning Service conclu
 des. In person at George Rogers Park\, 611 S State Street\, Lake Oswego
DTSTART;TZID=America/Los_Angeles:20230916T130000
DTEND;TZID=America/Los_Angeles:20230916T140000
END:VEVENT
END:VCALENDAR
