BEGIN:VCALENDAR
PRODID:-//eluceo/ical//2.0/EN
VERSION:2.0
CALSCALE:GREGORIAN
BEGIN:VEVENT
UID:771be0f65f5cc74182081340ac54fafa
DTSTAMP:20260422T180001Z
SUMMARY:Here’s Our Spiel!: a Disney-themed\, youth-led Purim celebration
DESCRIPTION:Jewish Federation of Greater Portland\nCommunity Calendar\nhttp
 s://jewishportland.org/community-calendar/heres-our-spiel-a-disney-themed-
 youth-led-purim-celebration-1709140135\n\nJoin us as we celebrate Purim wi
 th a family celebration and a Disney-themed sing along and spiel. Led by o
 ur older youth\, it will be fun\, engaging and full of laughs. After\, enj
 oy snacks\, games and crafts. $18/family or similar donation
DTSTART;TZID=America/Los_Angeles:20240323T160000
DTEND;TZID=America/Los_Angeles:20240323T180000
END:VEVENT
END:VCALENDAR
