BEGIN:VCALENDAR
PRODID:-//eluceo/ical//2.0/EN
VERSION:2.0
CALSCALE:GREGORIAN
BEGIN:VEVENT
UID:79a9ada9d42e4534172070a5f3a79ae8
DTSTAMP:20260425T205816Z
SUMMARY:Helping Your Child Manage Anxiety
DESCRIPTION:Jewish Federation of Greater Portland\nCommunity Calendar\nhttp
 s://jewishportland.org/community-calendar/helping-your-child-manage-anxiet
 y-1682456276\n\nJoin Jewish Family & Child Service\, Congregation Neveh Sh
 alom and Portland Area Jewish Educators for this important program:\n\nIs 
 your child struggling with anxiety? Are you looking for information and gu
 idance about treatment options? Have you ever wondered what Judaism teache
 s us about how we can pivot from anxious to calm? If these are questions t
 hat you are grappling with please join us for a free\, four-part series th
 at addresses these very issues.\n\nTo register and for more details:htt...
DTSTART;TZID=America/Los_Angeles:20230501T190000
DTEND;TZID=America/Los_Angeles:20230501T200000
END:VEVENT
END:VCALENDAR
