BEGIN:VCALENDAR
PRODID:-//eluceo/ical//2.0/EN
VERSION:2.0
CALSCALE:GREGORIAN
BEGIN:VEVENT
UID:6583189455ec62519e5f26ef189d68f9
DTSTAMP:20260420T130846Z
SUMMARY:Heart and Soul: A Modern Selichot Experience
DESCRIPTION:Jewish Federation of Greater Portland\nCommunity Calendar\nhttp
 s://jewishportland.org/community-calendar/heart-and-soul-a-modern-selichot
 -experience\n\nHeart and Soul\nA Modern Selichot Experience\nSaturday\, Se
 ptember 28\, 7:45pm\n\nJoin us for an engaging musical evening of pop\, ro
 ck\, and folk music featuring the unique talents of Beth Hamon\, Ilene Saf
 yan\, and our own Cantor Eyal Bitton as they present songs dealing with th
 e themes of Selichot such as regret\, repentance\, confession\, compassion
 \, introspection\, and renewal.\n\nHosted by Rabbi David Kosak. No regist
 ration required.
DTSTART;TZID=America/Los_Angeles:20240928T194500
DTEND;TZID=America/Los_Angeles:20240928T211500
END:VEVENT
END:VCALENDAR
