BEGIN:VCALENDAR
PRODID:-//eluceo/ical//2.0/EN
VERSION:2.0
CALSCALE:GREGORIAN
BEGIN:VEVENT
UID:0dec9c809720bcbdf2645bda6379d989
DTSTAMP:20260419T205413Z
SUMMARY:Hanukkah Market Place
DESCRIPTION:Jewish Federation of Greater Portland\nCommunity Calendar\nhttp
 s://jewishportland.org/community-calendar/hanukkah-market-place-1694627909
 \n\nA Hanukkah Shopping opportunity open to the community!
DTSTART;TZID=America/Los_Angeles:20231126T103000
DTEND;TZID=America/Los_Angeles:20231201T150000
END:VEVENT
END:VCALENDAR
