BEGIN:VCALENDAR
PRODID:-//eluceo/ical//2.0/EN
VERSION:2.0
CALSCALE:GREGORIAN
BEGIN:VEVENT
UID:079c3e5ce08540fb4add9faff73bd26e
DTSTAMP:20260420T220212Z
SUMMARY:Hamantash Bake Ladies Night Out
DESCRIPTION:Jewish Federation of Greater Portland\nCommunity Calendar\nhttp
 s://jewishportland.org/community-calendar/hamantash-bake--ladies-night-out
 -1709069998\n\nPre Purim Fun night out - come taste and prepare Purim trea
 ts!
DTSTART;TZID=America/Los_Angeles:20240310T190000
DTEND;TZID=America/Los_Angeles:20240310T203000
END:VEVENT
END:VCALENDAR
