BEGIN:VCALENDAR
PRODID:-//eluceo/ical//2.0/EN
VERSION:2.0
CALSCALE:GREGORIAN
BEGIN:VEVENT
UID:72db7541317db271554c76954750f262
DTSTAMP:20260424T181026Z
SUMMARY:Grief Connection
DESCRIPTION:Jewish Federation of Greater Portland\nCommunity Calendar\nhttp
 s://jewishportland.org/community-calendar/grief-connection-1682035129\n\nG
 rief Connection -- Grief affects every part of our lives and can be a lone
 ly road to travel. Join us for our monthly grief-processing group for adul
 ts. In our virtual sessions\, we will have the opportunity to share our ow
 n experiences with grief\, connect with others\, and learn strategies for 
 moving through loss.
DTSTART;TZID=America/Los_Angeles:20230505T100000
DTEND;TZID=America/Los_Angeles:20230505T110000
END:VEVENT
END:VCALENDAR
