BEGIN:VCALENDAR
PRODID:-//eluceo/ical//2.0/EN
VERSION:2.0
CALSCALE:GREGORIAN
BEGIN:VEVENT
UID:1c1457bdd7e15e0b39d6663823039133
DTSTAMP:20260419T155605Z
SUMMARY:Global Connections with Robert Siegel: Growing up with Social Media
DESCRIPTION:Jewish Federation of Greater Portland\nCommunity Calendar\nhttp
 s://jewishportland.org/community-calendar/global-connections-with-robert-s
 iegel-growing-up-with-social-media-1704911709\n\nRobert Siegel (NPR) inter
 views: Sherry Turkle and Brian Merchant
DTSTART;TZID=America/Los_Angeles:20240124T130000
DTEND;TZID=America/Los_Angeles:20240124T140000
END:VEVENT
END:VCALENDAR
