BEGIN:VCALENDAR
PRODID:-//eluceo/ical//2.0/EN
VERSION:2.0
CALSCALE:GREGORIAN
BEGIN:VEVENT
UID:6981af70b8010d43aac4886220d6d73a
DTSTAMP:20260423T140107Z
SUMMARY:Global Connections: What’s Next for Israel & The Middle East?
DESCRIPTION:Jewish Federation of Greater Portland\nCommunity Calendar\nhttp
 s://jewishportland.org/community-calendar/global-connections-whats-next-fo
 r-israel--the-middle-east-1710784821\n\nRobert Siegel (NPR) interviews: Am
 bassador Dennis Ross\, Ghaith al-Omari\, Natan Sachs\, Dr. Felix Benninger
DTSTART;TZID=America/Los_Angeles:20240319T130000
DTEND;TZID=America/Los_Angeles:20240319T140000
END:VEVENT
END:VCALENDAR
