BEGIN:VCALENDAR
PRODID:-//eluceo/ical//2.0/EN
VERSION:2.0
CALSCALE:GREGORIAN
BEGIN:VEVENT
UID:a57ebb8fdceb3b7cbc9a3b616f08144b
DTSTAMP:20260422T155810Z
SUMMARY:Global Connections: What’s Next for Israel & The Middle East?
DESCRIPTION:Jewish Federation of Greater Portland\nCommunity Calendar\nhttp
 s://jewishportland.org/community-calendar/global-connections-whats-next-fo
 r-israel--the-middle-east-1710267197-461831\n\nRobert Siegel (NPR) intervi
 ews: Dennis Ross\, Ghaith al-Omari\, Natan Sachs\, Dr. Felix Benninger
DTSTART;TZID=America/Los_Angeles:20240319T160000
DTEND;TZID=America/Los_Angeles:20240319T170000
END:VEVENT
END:VCALENDAR
