BEGIN:VCALENDAR
PRODID:-//eluceo/ical//2.0/EN
VERSION:2.0
CALSCALE:GREGORIAN
BEGIN:VEVENT
UID:b6e865f3d6e70d7db55a0324d56bca70
DTSTAMP:20260419T213451Z
SUMMARY:GIRLS IN TROUBLE: A MINI CONCERT FEATURING THE STORY OF JUDITH
DESCRIPTION:Jewish Federation of Greater Portland\nCommunity Calendar\nhttp
 s://jewishportland.org/community-calendar/girls-in-trouble-a-mini-concert-
 featuring-the-story-of-judith-1700525552\n\nJoin Alicia Jo Rabins and Aaro
 n Hartman as they present a Girls in Trouble mini-concert featuring the st
 ory of Judith. Girls in Trouble is an indie-folk song cycle about the comp
 licated lives of women in Torah by award-winning poet\, singer\, songwrite
 r and violinist Alicia Jo Rabins. All ages welcome.\n\nThis event is one o
 f a series in celebration of Hanukkah. For more events\, go to www.latkesa
 ndlagers.com
DTSTART;TZID=America/Los_Angeles:20231212T190000
DTEND;TZID=America/Los_Angeles:20231212T203000
END:VEVENT
END:VCALENDAR
