BEGIN:VCALENDAR
PRODID:-//eluceo/ical//2.0/EN
VERSION:2.0
CALSCALE:GREGORIAN
BEGIN:VEVENT
UID:5fe84f3aab25515e0e37293ec021dd2f
DTSTAMP:20260424T140852Z
SUMMARY:BB Camp Friends and Family Day
DESCRIPTION:Jewish Federation of Greater Portland\nCommunity Calendar\nhttp
 s://jewishportland.org/community-calendar/friends-and-family-day-23\n\nCom
 e see BB Camp!\nFRIENDS AND FAMILY DAY\n\nSUNDAY\, JUNE 25\, 11AM-3PM\n\nV
 ISIT CAMP AND PARTICIPATE IN THE DEDICATION OF OUR NEW PAVILION!\n\nFriend
 s and Family Day is our unofficial Summer Camp kick off!\n\nEnjoy camp act
 ivities\, meet the summer staff\, have a yummy lunch\, and check out our n
 ew Pavilion.\n\nIncludes lunch. Open to all.\n\nFree to attend – registr
 ation required at https://bbcamp.org/friends-day/\n\n11:00AM Tour of Camp
   and Camp Activities\n\n12:00PM Welcome and Lunch\n\n...
DTSTART;TZID=America/Los_Angeles:20230625T110000
DTEND;TZID=America/Los_Angeles:20230625T150000
END:VEVENT
END:VCALENDAR
