BEGIN:VCALENDAR
PRODID:-//eluceo/ical//2.0/EN
VERSION:2.0
CALSCALE:GREGORIAN
BEGIN:VEVENT
UID:102c9f1507b29b3a3dc6e77764ff5db7
DTSTAMP:20260419T180348Z
SUMMARY:First Night of Passover Community Seder at Gesher
DESCRIPTION:Jewish Federation of Greater Portland\nCommunity Calendar\nhttp
 s://jewishportland.org/community-calendar/first-night-of-passover-communit
 y-seder-at-gesher\n\nThis is the most important story that we live: the pa
 ssage from slavery to freedom defines us as a people.  It cultivates our 
 soulful search for justice.  We confront the Pharaohs of our day\, extern
 al and internal and explore how we tell our own and our people&#39\;s sear
 ch for freedom and release. Gesher&#39\;s rabbis invite you to Gesher&#39\
 ;s Passover Seder Feast while we together explore our journey from slavery
  to freedom and ask what makes this night\, and this year\, like and diffe
 rent from other Pa...
DTSTART;TZID=America/Los_Angeles:20240422T170000
DTEND;TZID=America/Los_Angeles:20240422T203000
END:VEVENT
END:VCALENDAR
