BEGIN:VCALENDAR
PRODID:-//eluceo/ical//2.0/EN
VERSION:2.0
CALSCALE:GREGORIAN
BEGIN:VEVENT
UID:f35429cbab58812e4d276bf0c157fdd4
DTSTAMP:20260419T133750Z
SUMMARY:Federation Board Meeting6
DESCRIPTION:Jewish Federation of Greater Portland\nCommunity Calendar\nhttp
 s://jewishportland.org/community-calendar/federation-board-meeting6\n\nFed
 eration Board Meeting
DTSTART;TZID=America/Los_Angeles:20240208T163000
DTEND;TZID=America/Los_Angeles:20240208T183000
END:VEVENT
END:VCALENDAR
