BEGIN:VCALENDAR
PRODID:-//eluceo/ical//2.0/EN
VERSION:2.0
CALSCALE:GREGORIAN
BEGIN:VEVENT
UID:7848a50397a1cdd521f652796ab6344b
DTSTAMP:20260421T141720Z
SUMMARY:Federation Board Meeting
DESCRIPTION:Jewish Federation of Greater Portland\nCommunity Calendar\nhttp
 s://jewishportland.org/community-calendar/federation-board-meeting\n\nFede
 ration Board Meeting
DTSTART;TZID=America/Los_Angeles:20231012T163000
DTEND;TZID=America/Los_Angeles:20231012T183000
END:VEVENT
END:VCALENDAR
