BEGIN:VCALENDAR
PRODID:-//eluceo/ical//2.0/EN
VERSION:2.0
CALSCALE:GREGORIAN
BEGIN:VEVENT
UID:47ff92b412cf15c24384f1743914a48a
DTSTAMP:20260422T082508Z
SUMMARY:Erev Yom Kippur - Kol Nidre Service with Havurah Shalom
DESCRIPTION:Jewish Federation of Greater Portland\nCommunity Calendar\nhttp
 s://jewishportland.org/community-calendar/erev-yom-kippur---kol-nidre-serv
 ice-with-havurah-shalom-1693507390\n\nErev Yom Kippur Evening Service (Kol
  Nidre Service) with Havurah Shalom\n\nAs the gates of prayer begin to clo
 se\, join us in celebrating the start of Yom Kippur. Services are free and
  open to all.\n\nWe will be in person at the Tiffany Center and streaming 
 on YouTube: https://www.youtube.com/channel/UCSswIr-kynA2BygY9C3DJOg/live\
 n\nAdditionally\, all are welcome to sign up for our free High Holidays ch
 ildcare services. Childcare walk-ins will be welcome depending on space th
 e day of. To guaran...
DTSTART;TZID=America/Los_Angeles:20230924T190000
DTEND;TZID=America/Los_Angeles:20230924T210000
END:VEVENT
END:VCALENDAR
