BEGIN:VCALENDAR
PRODID:-//eluceo/ical//2.0/EN
VERSION:2.0
CALSCALE:GREGORIAN
BEGIN:VEVENT
UID:176ff9ba3d39182421650ac996e024b1
DTSTAMP:20260422T023934Z
SUMMARY:Erev Rosh Hashanah Young Family Service - Neveh Shalom
DESCRIPTION:Jewish Federation of Greater Portland\nCommunity Calendar\nhttp
 s://jewishportland.org/community-calendar/erev-rosh-hashanah-young-family-
 ages-0-5-service-neveh-shalom\n\nThis special Young Families (0-5) servic
 e will take place in Stampfer Chapel.\n\nWhere do kids and teens belong at
  CNS over the High Holy Days? Right here!\n\nWe welcome all to experience 
 the New Year with Neveh Shalom. We offer lively young child services as w
 ell as K-6 appropriate family experiences. We welcome all to experience th
 e New Year with Neveh Shalom.\n\n*Please note that tickets are REQUIRED fo
 r this service* \n\nTo purchase tickets\, please visit https://nevehshalo
 m.org/hhd5784...
DTSTART;TZID=America/Los_Angeles:20230915T173000
DTEND;TZID=America/Los_Angeles:20230915T183000
END:VEVENT
END:VCALENDAR
