BEGIN:VCALENDAR
PRODID:-//eluceo/ical//2.0/EN
VERSION:2.0
CALSCALE:GREGORIAN
BEGIN:VEVENT
UID:ea066b7010be70bf7851d9c15d30d322
DTSTAMP:20260422T203132Z
SUMMARY:Erev Rosh Hashanah Tot Service
DESCRIPTION:Jewish Federation of Greater Portland\nCommunity Calendar\nhttp
 s://jewishportland.org/community-calendar/erev-rosh-hashanah-tot-service-1
 691170385\n\nErev Rosh Hashanah Tot Service\n4:00 PM\nCBI Plaza (weather p
 ermitting)\n\n\nEnjoy a sweet-as-honey start to the 5784 with this play-fi
 lled service designed with our littlest community members in mind!\n\nAll 
 who wish to join Congregation Beth Israel for the High Holidays are welcom
 e to do so\; please register in advance at https://www.bethisrael-pdx.org/
 high-holidays-guests/
DTSTART;TZID=America/Los_Angeles:20230915T160000
DTEND;TZID=America/Los_Angeles:20230915T173000
END:VEVENT
END:VCALENDAR
