BEGIN:VCALENDAR
PRODID:-//eluceo/ical//2.0/EN
VERSION:2.0
CALSCALE:GREGORIAN
BEGIN:VEVENT
UID:fc585ecb85f2ae2762b4148e984cf2f8
DTSTAMP:20260422T230008Z
SUMMARY:Erev Rosh Hashanah Service with Havurah Shalom
DESCRIPTION:Jewish Federation of Greater Portland\nCommunity Calendar\nhttp
 s://jewishportland.org/community-calendar/erev-rosh-hashanah-service-with-
 havurah-shalom-1693504667\n\nErev Rosh Hashanah Service with Havurah Shalo
 m\n\nThis year\, we usher in Shabbat and the new year together with song\,
  prayer\, and reflection\, setting the tone for our Days of Awe journey. F
 ree and open to all.\n\nOur Erev Rosh Hashanah Service will take place at 
 the Tiffany Center. The service will also stream on YouTube at: https://ww
 w.youtube.com/channel/UCSswIr-kynA2BygY9C3DJOg/live\n\nAdditionally\, all 
 are welcome to sign up for our free High Holidays childcare services. Chil
 dcare walk-in...
DTSTART;TZID=America/Los_Angeles:20230915T193000
DTEND;TZID=America/Los_Angeles:20230915T210000
END:VEVENT
END:VCALENDAR
