BEGIN:VCALENDAR
PRODID:-//eluceo/ical//2.0/EN
VERSION:2.0
CALSCALE:GREGORIAN
BEGIN:VEVENT
UID:9941488afcb62a85f9e165c6111855a1
DTSTAMP:20260426T021709Z
SUMMARY:Erev Rosh Hashanah Service - Neveh Shalom
DESCRIPTION:Jewish Federation of Greater Portland\nCommunity Calendar\nhttp
 s://jewishportland.org/community-calendar/erev-rosh-hashanah-service-neveh
 -shalom\n\nThis service will take place in the Main Sanctuary\n\n*Please n
 ote that tickets are REQUIRED for this service*\n\nTo purchase tickets\, p
 lease visit https://nevehshalom.org/hhd5784/\,contact hhd@nevehshalom.org 
 or 503-246-8831.\n\nNeveh Shalom is an open and egalitarian community. Our
  services are led by our clergy team Rabbi David Kosak\, Rabbi Eve Posen\,
  and Cantor Eyal Bitton\, along with guest leader Natan Meir\, and our lay
  leaders.\n\nWe welcome all to experience the New Year with Neveh Shalom!
DTSTART;TZID=America/Los_Angeles:20230915T174500
DTEND;TZID=America/Los_Angeles:20230915T190000
END:VEVENT
END:VCALENDAR
