BEGIN:VCALENDAR
PRODID:-//eluceo/ical//2.0/EN
VERSION:2.0
CALSCALE:GREGORIAN
BEGIN:VEVENT
UID:f4cf32a910f3eba8d668acdc87cc9345
DTSTAMP:20260423T234711Z
SUMMARY:Erev Rosh Hashanah Service-Cedar Sinai Park
DESCRIPTION:Jewish Federation of Greater Portland\nCommunity Calendar\nhttp
 s://jewishportland.org/community-calendar/erev-rosh-hashanah-service-16915
 43276\n\nA service for residents and families at Cedar Sinai Park
DTSTART;TZID=America/Los_Angeles:20230915T190000
DTEND;TZID=America/Los_Angeles:20230915T210000
END:VEVENT
END:VCALENDAR
