BEGIN:VCALENDAR
PRODID:-//eluceo/ical//2.0/EN
VERSION:2.0
CALSCALE:GREGORIAN
BEGIN:VEVENT
UID:1ac28b41dc75e7f77fc2c21839eb7ca5
DTSTAMP:20260421T133023Z
SUMMARY:EJC Spill Those Guts Already: A Flash Memoir Class with Leanne Grab
 el
DESCRIPTION:Jewish Federation of Greater Portland\nCommunity Calendar\nhttp
 s://jewishportland.org/community-calendar/ejc-spill-those-guts-already-a-f
 lash-memoir-class-with-leanne-grabel-1710317993\n\nA Flash Memoir Class wi
 th Leanne Grabel
DTSTART;TZID=America/Los_Angeles:20240413T140000
DTEND;TZID=America/Los_Angeles:20240413T180000
END:VEVENT
END:VCALENDAR
