BEGIN:VCALENDAR
PRODID:-//eluceo/ical//2.0/EN
VERSION:2.0
CALSCALE:GREGORIAN
BEGIN:VEVENT
UID:d0272e88d3a68280eb98e40c8bb1f7e4
DTSTAMP:20260421T150729Z
SUMMARY:EJC: Spill Those Guts Already\, a Flash Memoir Class with Leanne Gr
 abel
DESCRIPTION:Jewish Federation of Greater Portland\nCommunity Calendar\nhttp
 s://jewishportland.org/community-calendar/ejc-spill-those-guts-already-a-f
 lash-memoir-class-with-leanne-grabel-1701728529\n\nEJC Presents a Flash Me
 moir class with Leanne Grabel
DTSTART;TZID=America/Los_Angeles:20240121T110000
DTEND;TZID=America/Los_Angeles:20240121T150000
END:VEVENT
END:VCALENDAR
