BEGIN:VCALENDAR
PRODID:-//eluceo/ical//2.0/EN
VERSION:2.0
CALSCALE:GREGORIAN
BEGIN:VEVENT
UID:b93d8838164c54f6c0d0628c75c2888a
DTSTAMP:20260420T070314Z
SUMMARY:EJC Presents "Traces" Holocaust Documentary Screening
DESCRIPTION:Jewish Federation of Greater Portland\nCommunity Calendar\nhttp
 s://jewishportland.org/community-calendar/ejc-presents-traces-holocaust-do
 cumentary-screening-1703203043\n\nEJC Presents "Traces" Holocaust Document
 ary Screening
DTSTART;TZID=America/Los_Angeles:20240127T183000
DTEND;TZID=America/Los_Angeles:20240127T203000
END:VEVENT
END:VCALENDAR
