BEGIN:VCALENDAR
PRODID:-//eluceo/ical//2.0/EN
VERSION:2.0
CALSCALE:GREGORIAN
BEGIN:VEVENT
UID:1b10cd539289d2ed4a6ba42f4a33b37f
DTSTAMP:20260421T162801Z
SUMMARY:EJC Presents: Noontime Concert with Bluesman Steve Cheseborough
DESCRIPTION:Jewish Federation of Greater Portland\nCommunity Calendar\nhttp
 s://jewishportland.org/community-calendar/ejc-presents-noontime-concert-wi
 th-bluesman-steve-cheseborough-1701717934\n\nEJC Free Noon Concert
DTSTART;TZID=America/Los_Angeles:20231215T120000
DTEND;TZID=America/Los_Angeles:20231215T130000
END:VEVENT
END:VCALENDAR
