BEGIN:VCALENDAR
PRODID:-//eluceo/ical//2.0/EN
VERSION:2.0
CALSCALE:GREGORIAN
BEGIN:VEVENT
UID:6d0da93bfe2d4678cbec0cb38a539149
DTSTAMP:20260421T133103Z
SUMMARY:EJC Presents Noontime Concert  with Bluegrass band Sunny South
DESCRIPTION:Jewish Federation of Greater Portland\nCommunity Calendar\nhttp
 s://jewishportland.org/community-calendar/ejc-presents-noontime-concert--w
 ith-bluegrass-band-sunny-south-1704241709\n\nFree Bluegrass music at EJC
DTSTART;TZID=America/Los_Angeles:20240119T120000
DTEND;TZID=America/Los_Angeles:20240119T130000
END:VEVENT
END:VCALENDAR
