BEGIN:VCALENDAR
PRODID:-//eluceo/ical//2.0/EN
VERSION:2.0
CALSCALE:GREGORIAN
BEGIN:VEVENT
UID:f50e4078158692b1ac981c09c79b2c37
DTSTAMP:20260422T080153Z
SUMMARY:EJC Presents Gentle Yoga with Sido Surkis
DESCRIPTION:Jewish Federation of Greater Portland\nCommunity Calendar\nhttp
 s://jewishportland.org/community-calendar/ejc-presents-gentle-yoga-with-si
 do-surkis-1684794734\n\nYoga at EJC
DTSTART;TZID=America/Los_Angeles:20230606T100000
DTEND;TZID=America/Los_Angeles:20230606T110000
END:VEVENT
END:VCALENDAR
