BEGIN:VCALENDAR
PRODID:-//eluceo/ical//2.0/EN
VERSION:2.0
CALSCALE:GREGORIAN
BEGIN:VEVENT
UID:b62497e8ceac651f3a3594900a45a4a2
DTSTAMP:20260422T155820Z
SUMMARY:EJC Presents FRIDAY NOONTIME CONCERT WITH THE ORCHID TRIO
DESCRIPTION:Jewish Federation of Greater Portland\nCommunity Calendar\nhttp
 s://jewishportland.org/community-calendar/ejc-presents-friday-noontime-con
 cert-with-the-orchid-trio-1712173472\n\nFree Classical Music concert at EJ
 C
DTSTART;TZID=America/Los_Angeles:20240419T120000
DTEND;TZID=America/Los_Angeles:20240419T130000
END:VEVENT
END:VCALENDAR
