BEGIN:VCALENDAR
PRODID:-//eluceo/ical//2.0/EN
VERSION:2.0
CALSCALE:GREGORIAN
BEGIN:VEVENT
UID:ea44aa76f64c6ad50fa569a1f8582fb2
DTSTAMP:20260422T001253Z
SUMMARY:EJC Presents free Noontime Concert with classical guitarist Jason O
 kamoto
DESCRIPTION:Jewish Federation of Greater Portland\nCommunity Calendar\nhttp
 s://jewishportland.org/community-calendar/ejc-presents-free-noontime-conce
 rt-with-classical-guitarist-jason-okamoto-1697147672\n\nNoontime Concert w
 ith Classical Guitarist Jason Okamoto at EJC
DTSTART;TZID=America/Los_Angeles:20231020T120000
DTEND;TZID=America/Los_Angeles:20231020T130000
END:VEVENT
END:VCALENDAR
