BEGIN:VCALENDAR
PRODID:-//eluceo/ical//2.0/EN
VERSION:2.0
CALSCALE:GREGORIAN
BEGIN:VEVENT
UID:bc980b5b47e712252121e8184693b0a5
DTSTAMP:20260426T001838Z
SUMMARY:EJC Presents: Family Matzah Bake with Mushka Wilhelm\, Rabbi Chaim 
 Wilhelm
DESCRIPTION:Jewish Federation of Greater Portland\nCommunity Calendar\nhttp
 s://jewishportland.org/community-calendar/ejc-presents-family-matzah-bake-
 with-mushka-wilhelm-rabbi-chaim-wilhelm-1678317980\n\nEJC Presents: Family
  Matzah Bake
DTSTART;TZID=America/Los_Angeles:20230326T150000
DTEND;TZID=America/Los_Angeles:20230326T160000
END:VEVENT
END:VCALENDAR
