BEGIN:VCALENDAR
PRODID:-//eluceo/ical//2.0/EN
VERSION:2.0
CALSCALE:GREGORIAN
BEGIN:VEVENT
UID:4951b78d5395accb2593737a822c2ed8
DTSTAMP:20260425T021059Z
SUMMARY:EJC Presents December First Writers Group Poetry Reading
DESCRIPTION:Jewish Federation of Greater Portland\nCommunity Calendar\nhttp
 s://jewishportland.org/community-calendar/ejc-presents-december-first-writ
 ers-group-poetry-reading-1680057209\n\nEJC Presents: A poetry reading by f
 ounding members of December First Writers
DTSTART;TZID=America/Los_Angeles:20230425T193000
DTEND;TZID=America/Los_Angeles:20230425T210000
END:VEVENT
END:VCALENDAR
