BEGIN:VCALENDAR
PRODID:-//eluceo/ical//2.0/EN
VERSION:2.0
CALSCALE:GREGORIAN
BEGIN:VEVENT
UID:4b1774f1aad1725dd1e09359898a4716
DTSTAMP:20260422T155740Z
SUMMARY:EJC Noontime Concert with Flamenco Guitarist Brenna McDonald
DESCRIPTION:Jewish Federation of Greater Portland\nCommunity Calendar\nhttp
 s://jewishportland.org/community-calendar/ejc-noontime-concert-with-flamen
 co-guitarist-brenna-mcdonald-1698870891\n\nEJC Noontime Concert Flamenco
DTSTART;TZID=America/Los_Angeles:20231117T120000
DTEND;TZID=America/Los_Angeles:20231117T130000
END:VEVENT
END:VCALENDAR
