BEGIN:VCALENDAR
PRODID:-//eluceo/ical//2.0/EN
VERSION:2.0
CALSCALE:GREGORIAN
BEGIN:VEVENT
UID:282c3294112522b0d210451c395d4ad9
DTSTAMP:20260426T001833Z
SUMMARY:EJC Friday Noontime Concert: International Violinist Mirabai Peart
DESCRIPTION:Jewish Federation of Greater Portland\nCommunity Calendar\nhttp
 s://jewishportland.org/community-calendar/ejc-friday-noontime-concert-inte
 rnational-violinist-mirabai-peart-1680056295\n\nEJC Noontime Concert: Inte
 rnational Violinist Mirabai Peart
DTSTART;TZID=America/Los_Angeles:20230421T120000
DTEND;TZID=America/Los_Angeles:20230421T130000
END:VEVENT
END:VCALENDAR
