BEGIN:VCALENDAR
PRODID:-//eluceo/ical//2.0/EN
VERSION:2.0
CALSCALE:GREGORIAN
BEGIN:VEVENT
UID:498afbd589b2fd88f8f65a71079eabd7
DTSTAMP:20260422T155750Z
SUMMARY:Dr. Robert Alter\, Illuminating the Bible with Literary Brilliance 
 via Zoom
DESCRIPTION:Jewish Federation of Greater Portland\nCommunity Calendar\nhttp
 s://jewishportland.org/community-calendar/dr-robert-alter-illuminating-the
 -bible-with-literary-brilliance-via-zoom-1708368872\n\nBeit Haverim and th
 e Kleinstein Lecture Series present Dr. Robert B Alter\, Illuminating the 
 Bible with Literary Brilliance via Zoom. Join us for this rare opportunity
  to participate in a presentation from a ground-breaking luminary in the f
 ield of Biblical Scholarship.\n\nDr. Robert Bernard Alter is Professor Eme
 ritus at the University of California\, Berkeley. His monumental influence
  transcends academic circles\, transforming the way we understand the Hebr
 ew Bible\, not just as areligious text...
DTSTART;TZID=America/Los_Angeles:20240305T190000
DTEND;TZID=America/Los_Angeles:20240305T210000
END:VEVENT
END:VCALENDAR
