BEGIN:VCALENDAR
PRODID:-//eluceo/ical//2.0/EN
VERSION:2.0
CALSCALE:GREGORIAN
BEGIN:VEVENT
UID:db9100d2b0f1ced8764b6dee6e1d4a4c
DTSTAMP:20260422T155755Z
SUMMARY:Divine Decay: How Jewish Wisdom Teaches us to love letting go
DESCRIPTION:Jewish Federation of Greater Portland\nCommunity Calendar\nhttp
 s://jewishportland.org/community-calendar/divine-decay-how-jewish-wisdom-t
 eaches-us-to-love-letting-go-1698355627\n\nJoin Shel Maala\, your online q
 ueer Yeshiva\, live for the first time ever\, at a day of gay Talmud learn
 ing in Portland\, OR.
DTSTART;TZID=America/Los_Angeles:20231112T130000
DTEND;TZID=America/Los_Angeles:20231112T180000
END:VEVENT
END:VCALENDAR
