BEGIN:VCALENDAR
PRODID:-//eluceo/ical//2.0/EN
VERSION:2.0
CALSCALE:GREGORIAN
BEGIN:VEVENT
UID:7ec97644dbdaec59fa085dc95cf7afd6
DTSTAMP:20260419T125506Z
SUMMARY:Death Over Desserts - A Shabbat Event at Leikam Brewing
DESCRIPTION:Jewish Federation of Greater Portland\nCommunity Calendar\nhttp
 s://jewishportland.org/community-calendar/death-over-desserts---a-shabbat-
 event-at-leikam-brewing-1735838218\n\nJoin JADE&#39\;s Portland Death Educ
 ator\, Rachel Crawford for an evening of honest and engaging conversation 
 about Jewish Death Practices over some sweets and treats - hosted at Leika
 m Brewing! We will light Shabbat candles and connect with one another over
  dessert and meaningful discussion of Jewish end of life practices. Desser
 t will be provided with admission and there will be meals and beverages av
 ailable for purchase from Leikam Brewing&#39\;s typical menu offerings.\n\
 nThis event is 21+ and is op...
DTSTART;TZID=America/Los_Angeles:20250124T190000
DTEND;TZID=America/Los_Angeles:20250124T203000
END:VEVENT
END:VCALENDAR
