BEGIN:VCALENDAR
PRODID:-//eluceo/ical//2.0/EN
VERSION:2.0
CALSCALE:GREGORIAN
BEGIN:VEVENT
UID:2851135c166c78264fdcad267a4ebdd6
DTSTAMP:20260420T205344Z
SUMMARY:Congregation Beth Israel Fundraiser
DESCRIPTION:Jewish Federation of Greater Portland\nCommunity Calendar\nhttp
 s://jewishportland.org/community-calendar/congregation-beth-israel-fundrai
 ser-1694212298\n\nCongregation Beth Israel's annual friend- and fund- rais
 er\; details to follow.
DTSTART;TZID=America/Los_Angeles:20240309T170000
DTEND;TZID=America/Los_Angeles:20240309T210000
END:VEVENT
END:VCALENDAR
