BEGIN:VCALENDAR
PRODID:-//eluceo/ical//2.0/EN
VERSION:2.0
CALSCALE:GREGORIAN
BEGIN:VEVENT
UID:4d72fff0443d719c2d2a1b10347a1704
DTSTAMP:20260420T064925Z
SUMMARY:Bring Them Home: Community Gathering for the Hostages
DESCRIPTION:Jewish Federation of Greater Portland\nCommunity Calendar\nhttp
 s://jewishportland.org/community-calendar/community-vigil-for-the-israeli-
 hostages\n\nThe Jewish Federation\, in partnership with organizations acro
 ss the community\, will be holding a community gathering \n\nin support of
  the hostages on \n\nTuesday\, November 28 at Congregation Neveh Shalom at
  7:00 p.m. \n\nto offer hope and solidarity for the \n\n240 hostages curr
 ently being held in Gaza.\n\n \n\nThis event will be available via Lives
 tream\,\n\nyet standing together and supporting one another \n\ncan make 
 an even greater impact.\n\n \n\nOur friends and family in Israel are...
DTSTART;TZID=America/Los_Angeles:20231128T190000
DTEND;TZID=America/Los_Angeles:20231128T203000
END:VEVENT
END:VCALENDAR
