BEGIN:VCALENDAR
PRODID:-//eluceo/ical//2.0/EN
VERSION:2.0
CALSCALE:GREGORIAN
BEGIN:VEVENT
UID:15fef80e5c101f1709cba66f5e9ffef8
DTSTAMP:20260419T205927Z
SUMMARY:Community Collecting Event: April 17
DESCRIPTION:Jewish Federation of Greater Portland\nCommunity Calendar\nhttp
 s://jewishportland.org/community-calendar/community-collecting-event-april
 -17-1711390175\n\nWe are excited to invite you to participate in our upcom
 ing Community Collecting Events\, where we aim to preserve and celebrate t
 he rich history of communal Jewish life in Oregon.\n\nDuring these communi
 ty collecting events\, we focus on gathering primary resources that docume
 nt various aspects of communal Jewish life\, including synagogue\, club\, 
 and school records. We are also keenly interested in materials related to 
 public leadership and planning\, as well as the stories of Holocaust survi
 vor...
DTSTART;TZID=America/Los_Angeles:20240417T110000
DTEND;TZID=America/Los_Angeles:20240417T150000
END:VEVENT
END:VCALENDAR
