BEGIN:VCALENDAR
PRODID:-//eluceo/ical//2.0/EN
VERSION:2.0
CALSCALE:GREGORIAN
BEGIN:VEVENT
UID:efda290a19563810e566ecad6508c2a5
DTSTAMP:20260426T040253Z
SUMMARY:Co/Lab Reimagine Jewish Presents: A Gathering on Food and Jewish Va
 lues
DESCRIPTION:Jewish Federation of Greater Portland\nCommunity Calendar\nhttp
 s://jewishportland.org/community-calendar/colab-reimagine-jewish-presents-
 a-gathering-on-food-and-jewish-values\n\nCome be part of a day that will h
 ighlight the role of food in conversation about Jewish life and values\, b
 uild relationships among people in the Jewish community\, to provide a pla
 tform and opportunities for Jewish learning\, and amplify voices within th
 e Jewish community who have been working on and thinking about these issue
 s. Scholars\, activists\, teachers\, rabbis and foodies from both inside a
 nd beyond the Jewish community to teach\, engage and inspire.
DTSTART;TZID=America/Los_Angeles:20230521T100000
DTEND;TZID=America/Los_Angeles:20230521T150000
END:VEVENT
END:VCALENDAR
