BEGIN:VCALENDAR
PRODID:-//eluceo/ical//2.0/EN
VERSION:2.0
CALSCALE:GREGORIAN
BEGIN:VEVENT
UID:eac50ad208cd731c0e0a1176a9c15f53
DTSTAMP:20260422T222443Z
SUMMARY:CKA 5784 Rosh Hashanah Day 1
DESCRIPTION:Jewish Federation of Greater Portland\nCommunity Calendar\nhttp
 s://jewishportland.org/community-calendar/cka-5784-rosh-hashanah-day-1-169
 2148159\n\nJoin Congregation Kol Ami for 5784 High Holy Day services. If y
 ou would like to attend please contact admin@jewishvancouverusa.org for de
 tails. Open to all but you must register prior to the event with admin.
DTSTART;TZID=America/Los_Angeles:20230916T100000
DTEND;TZID=America/Los_Angeles:20230916T120000
END:VEVENT
END:VCALENDAR
