BEGIN:VCALENDAR
PRODID:-//eluceo/ical//2.0/EN
VERSION:2.0
CALSCALE:GREGORIAN
BEGIN:VEVENT
UID:ae82f8f1a674acde443a35d151f7acb1
DTSTAMP:20260421T115242Z
SUMMARY:Chol HaMoed Sukkot Service - Neveh Shalom
DESCRIPTION:Jewish Federation of Greater Portland\nCommunity Calendar\nhttp
 s://jewishportland.org/community-calendar/chol-hamoed-sukkot-service-CNS\n
 \nMorning Minyan Chol HaMoed Sukkot Service 
DTSTART;TZID=America/Los_Angeles:20231002T070000
DTEND;TZID=America/Los_Angeles:20231002T080000
END:VEVENT
END:VCALENDAR
