BEGIN:VCALENDAR
PRODID:-//eluceo/ical//2.0/EN
VERSION:2.0
CALSCALE:GREGORIAN
BEGIN:VEVENT
UID:08d8ddb238a7264b7c5305d7644e7bf6
DTSTAMP:20260419T141107Z
SUMMARY:Chanukah Family Shabbat
DESCRIPTION:Jewish Federation of Greater Portland\nCommunity Calendar\nhttp
 s://jewishportland.org/community-calendar/chanukah-family-shabbat-16993949
 30\n\nChanukah Family Shabbat\nFriday\, December 8\, 6:00 PM\nIn-Person an
 d Online\nMain Sanctuary\n\nEnjoy  a lively Chanukah Service for all ages\
 , with stories and music from our youth choir and band.
DTSTART;TZID=America/Los_Angeles:20231208T180000
DTEND;TZID=America/Los_Angeles:20231208T200000
END:VEVENT
END:VCALENDAR
