BEGIN:VCALENDAR
PRODID:-//eluceo/ical//2.0/EN
VERSION:2.0
CALSCALE:GREGORIAN
BEGIN:VEVENT
UID:cb991230e1e45fc4e3f8bdddc0db2106
DTSTAMP:20260423T010156Z
SUMMARY:BB Camp's Central Coast Community Seder
DESCRIPTION:Jewish Federation of Greater Portland\nCommunity Calendar\nhttp
 s://jewishportland.org/community-calendar/central-coast-community-seder24\
 n\nCentral Coast Community Seder at BB Camp\n\nThursday April 4\, 5PM \n\
 nLet all who are hungry come and eat!\n\nYou are warmly invited to BB Cam
 p&#39\;s Central Coast Community Seder.\n\nPlease join BB Camp Staff and R
 epresentative David Gomberg and his wife Susan for a night to remember (le
 aving slavery to freedom!)\n\nFull Passover meal included with registratio
 n fee. Bring the kids and grandkids for the afikomen hunt and music with t
 he incomparable Kim Schneiderman!\n\nMany thanks to the Jewish...
DTSTART;TZID=America/Los_Angeles:20240404T170000
DTEND;TZID=America/Los_Angeles:20240404T200000
END:VEVENT
END:VCALENDAR
