BEGIN:VCALENDAR
PRODID:-//eluceo/ical//2.0/EN
VERSION:2.0
CALSCALE:GREGORIAN
BEGIN:VEVENT
UID:c543c2b8cbc225ad11339403698eb772
DTSTAMP:20260419T234003Z
SUMMARY:Cahoots Hebrew Study
DESCRIPTION:Jewish Federation of Greater Portland\nCommunity Calendar\nhttp
 s://jewishportland.org/community-calendar/cahoots-hebrew-study-1701215298\
 n\nJoin us as we better our Hebrew through the game Cahoots! Snacks and te
 a will be provided.
DTSTART;TZID=America/Los_Angeles:20231221T180000
DTEND;TZID=America/Los_Angeles:20231221T210000
END:VEVENT
END:VCALENDAR
