BEGIN:VCALENDAR
PRODID:-//eluceo/ical//2.0/EN
VERSION:2.0
CALSCALE:GREGORIAN
BEGIN:VEVENT
UID:549e35710b4195f4bda56dc36458fcfe
DTSTAMP:20260419T230759Z
SUMMARY:Sharaka: Building Peace between Arabs and Israelis in Times of War
DESCRIPTION:Jewish Federation of Greater Portland\nCommunity Calendar\nhttp
 s://jewishportland.org/community-calendar/building-peace-between-arabs-and
 -israelis-in-times-of-war-1704221255\n\nSharaka: A delegation from Israel\
 , the UAE\, Bahrain\, Morocco and Egypt will discuss peace and normalizati
 on between Arabs and Israelis during this difficult time in Israel and Gaz
 a. Registration required.
DTSTART;TZID=America/Los_Angeles:20240122T190000
DTEND;TZID=America/Los_Angeles:20240122T203000
END:VEVENT
END:VCALENDAR
