BEGIN:VCALENDAR
PRODID:-//eluceo/ical//2.0/EN
VERSION:2.0
CALSCALE:GREGORIAN
BEGIN:VEVENT
UID:11e8bd11dcb8760653fdc3d112269949
DTSTAMP:20260420T035956Z
SUMMARY:Building a Better Future in a Time of Crisis
DESCRIPTION:Jewish Federation of Greater Portland\nCommunity Calendar\nhttp
 s://jewishportland.org/community-calendar/building-a-better-future-in-a-ti
 me-of-crisis-1715185592\n\nPlease join us for an inspiring evening with a 
 member of Dror Israel\, a grassroots organization that promotes equality a
 nd social justice through education and community work. Dror Israel is com
 prised of 1\,300 educators residing in 16 intentional communities in Israe
 l&#39\;s social and economic periphery.\n\nNoam Schlanger is Dror Israel&#
 39\;s liaison to the Pacific NW. He has worked as a youth counselor with a
 t-risk teens in northern Israel\, including the Arab Israeli village of Kf
 ar Manda. For the l...
DTSTART;TZID=America/Los_Angeles:20240605T183000
DTEND;TZID=America/Los_Angeles:20240605T200000
END:VEVENT
END:VCALENDAR
