BEGIN:VCALENDAR
PRODID:-//eluceo/ical//2.0/EN
VERSION:2.0
CALSCALE:GREGORIAN
BEGIN:VEVENT
UID:aaedd1cd81e416b5f6154156c28bb620
DTSTAMP:20260426T034706Z
SUMMARY:Bread and Torah Workshop with Rabbis Linda Motzkin & Jonathan Ruben
 stein
DESCRIPTION:Jewish Federation of Greater Portland\nCommunity Calendar\nhttp
 s://jewishportland.org/community-calendar/bread-and-torah-workshop-with-ra
 bbis-linda-motzkin--jonathan-rubenstein-1681840881\n\nE﻿astside Jewish C
 ommons and Congregation Shir Tikvah Present Bread and Torah: an interactiv
 e workshop with Rabbis Linda Motzkin and Jonathan Rubenstein.
DTSTART;TZID=America/Los_Angeles:20230514T130000
DTEND;TZID=America/Los_Angeles:20230514T160000
END:VEVENT
END:VCALENDAR
