BEGIN:VCALENDAR
PRODID:-//eluceo/ical//2.0/EN
VERSION:2.0
CALSCALE:GREGORIAN
BEGIN:VEVENT
UID:3e7b8313d5059490c87184a60e8fc9a7
DTSTAMP:20260425T230633Z
SUMMARY:BB Camp's Spaghetti Dinner
DESCRIPTION:Jewish Federation of Greater Portland\nCommunity Calendar\nhttp
 s://jewishportland.org/community-calendar/bb-camps-spaghetti-dinner23\n\nB
 B Camp&#39\;s Annual Spaghetti Dinner\nThursday\, May 18\n5:00pm Camp Tour
 \n6:00pm Dinner\n\nThe spaghetti dinner is back! Join us for a fun night a
 t BB Camp\nSupport BB Day Camp Lincoln City - Food\, Fun\, and Fundraising
  for a great cause!\n\nTickets: $18/ person - get your tickets at http://
 bbcamp.org/spaghetti
DTSTART;TZID=America/Los_Angeles:20230518T170000
DTEND;TZID=America/Los_Angeles:20230518T200000
END:VEVENT
END:VCALENDAR
